BEGIN:VCALENDAR
VERSION:2.0
PRODID:-//AirdropBounty.Events - ECPv6.13.2.1//NONSGML v1.0//EN
CALSCALE:GREGORIAN
METHOD:PUBLISH
X-WR-CALNAME:AirdropBounty.Events
X-ORIGINAL-URL:https://airdropbounty.events
X-WR-CALDESC:Events for AirdropBounty.Events
REFRESH-INTERVAL;VALUE=DURATION:PT1H
X-Robots-Tag:noindex
X-PUBLISHED-TTL:PT1H
BEGIN:VTIMEZONE
TZID:UTC
BEGIN:STANDARD
TZOFFSETFROM:+0000
TZOFFSETTO:+0000
TZNAME:UTC
DTSTART:20220101T000000
END:STANDARD
END:VTIMEZONE
BEGIN:VEVENT
DTSTART;TZID=UTC:20240828T080000
DTEND;TZID=UTC:20240829T170000
DTSTAMP:20260424T200803
CREATED:20240909T111005Z
LAST-MODIFIED:20240909T111005Z
UID:618-1724832000-1724950800@airdropbounty.events
SUMMARY:WebX 2024
DESCRIPTION:Web3 | Asia | Tokyo\, Japan
URL:https://airdropbounty.events/event/webx-2024/
END:VEVENT
BEGIN:VEVENT
DTSTART;TZID=UTC:20240822T080000
DTEND;TZID=UTC:20240823T170000
DTSTAMP:20260424T200803
CREATED:20240909T110724Z
LAST-MODIFIED:20240909T110758Z
UID:611-1724313600-1724432400@airdropbounty.events
SUMMARY:Coinfest Asia
DESCRIPTION:Web3 | Nuanu\, Bali\, indonesia
URL:https://airdropbounty.events/event/coinfest-asia/
END:VEVENT
BEGIN:VEVENT
DTSTART;TZID=UTC:20240812T080000
DTEND;TZID=UTC:20240815T170000
DTSTAMP:20260424T200803
CREATED:20240909T110523Z
LAST-MODIFIED:20240909T110902Z
UID:610-1723449600-1723741200@airdropbounty.events
SUMMARY:ETail
DESCRIPTION:Ecommerce | North America | Boston\, USA
URL:https://airdropbounty.events/event/august-2024/
END:VEVENT
BEGIN:VEVENT
DTSTART;TZID=UTC:20220720T080000
DTEND;TZID=UTC:20220721T170000
DTSTAMP:20260424T200803
CREATED:20220711T153753Z
LAST-MODIFIED:20220711T153926Z
UID:126-1658304000-1658422800@airdropbounty.events
SUMMARY:Daily each 3 days
DESCRIPTION:
URL:https://airdropbounty.events/event/daily-each-3-days/
ATTACH;FMTTYPE=image/jpeg:https://airdropbounty.events/wp-content/uploads/2022/07/IMG-20181012-WA0000.jpg
END:VEVENT
END:VCALENDAR