BEGIN:VCALENDAR
VERSION:2.0
PRODID:-//AirdropBounty.Events - ECPv6.13.2.1//NONSGML v1.0//EN
CALSCALE:GREGORIAN
METHOD:PUBLISH
X-WR-CALNAME:AirdropBounty.Events
X-ORIGINAL-URL:https://airdropbounty.events
X-WR-CALDESC:Events for AirdropBounty.Events
REFRESH-INTERVAL;VALUE=DURATION:PT1H
X-Robots-Tag:noindex
X-PUBLISHED-TTL:PT1H
BEGIN:VTIMEZONE
TZID:UTC
BEGIN:STANDARD
TZOFFSETFROM:+0000
TZOFFSETTO:+0000
TZNAME:UTC
DTSTART:20220101T000000
END:STANDARD
END:VTIMEZONE
BEGIN:VEVENT
DTSTART;TZID=UTC:20250203T080000
DTEND;TZID=UTC:20250203T170000
DTSTAMP:20260424T190311
CREATED:20240909T112647Z
LAST-MODIFIED:20240909T112647Z
UID:647-1738569600-1738602000@airdropbounty.events
SUMMARY:Digital Assets Forum
DESCRIPTION:Blockchain Convention | Convene\, 155 Bishopsgate\, London
URL:https://airdropbounty.events/event/digital-assets-forum/
END:VEVENT
BEGIN:VEVENT
DTSTART;TZID=UTC:20250115T080000
DTEND;TZID=UTC:20250117T170000
DTSTAMP:20260424T190311
CREATED:20250211T114543Z
LAST-MODIFIED:20250211T114543Z
UID:2467-1736928000-1737133200@airdropbounty.events
SUMMARY:CfC St. Moritz
DESCRIPTION:An intimate circle of selected opinion leaders and investors in the truly private and unique setting of the Swiss Alps. The application-only conference fosters a culture of genuine connection and deliberately admits a maximum of only 250 international UHNWI\, family offices\, funds\, and institutional investors\, uniting the traditional finance sector and the crypto industry in the heart of the snowy Engadin valley. \nDuring three days\, opinion leaders and high-ranking representatives from governmental and supranational bodies\, the private sector\, academia\, and decentralized organizations exchange their knowledge on digital assets\, blockchain and traditional finance in various formats on- and off-stage.
URL:https://airdropbounty.events/event/cfc-st-moritz/
CATEGORIES:Blockchain & Crypto
END:VEVENT
BEGIN:VEVENT
DTSTART;TZID=UTC:20241120T080000
DTEND;TZID=UTC:20241122T170000
DTSTAMP:20260424T190311
CREATED:20240909T112537Z
LAST-MODIFIED:20240909T112537Z
UID:645-1732089600-1732294800@airdropbounty.events
SUMMARY:NexTech Week Tokyo Tech
DESCRIPTION:Tech | Nov 20 – Nov 22 | Asia | Chiba\, Japan
URL:https://airdropbounty.events/event/nextech-week-tokyo-tech/
END:VEVENT
BEGIN:VEVENT
DTSTART;TZID=UTC:20241111T080000
DTEND;TZID=UTC:20241114T170000
DTSTAMP:20260424T190311
CREATED:20240909T112343Z
LAST-MODIFIED:20240909T112356Z
UID:638-1731312000-1731603600@airdropbounty.events
SUMMARY:Web Summit
DESCRIPTION:Web3 | Europe | Lissabon\, Portugal
URL:https://airdropbounty.events/event/web-summit/
END:VEVENT
BEGIN:VEVENT
DTSTART;VALUE=DATE:20241111
DTEND;VALUE=DATE:20241112
DTSTAMP:20260424T190311
CREATED:20240909T112451Z
LAST-MODIFIED:20240909T112451Z
UID:643-1731283200-1731369599@airdropbounty.events
SUMMARY:De.Fi World
DESCRIPTION:De.Fi | Europe | Thailand\, Bangkok
URL:https://airdropbounty.events/event/de-fi-world/
END:VEVENT
BEGIN:VEVENT
DTSTART;TZID=UTC:20241025T080000
DTEND;TZID=UTC:20241027T170000
DTSTAMP:20260424T190311
CREATED:20240909T112044Z
LAST-MODIFIED:20240909T112058Z
UID:635-1729843200-1730048400@airdropbounty.events
SUMMARY:Advanced Ecommerce & Retail Expo
DESCRIPTION:Ecommerce | Asia | Tokyo\, Japan
URL:https://airdropbounty.events/event/advanced-ecommerce-retail-expo/
END:VEVENT
BEGIN:VEVENT
DTSTART;TZID=UTC:20241014T080000
DTEND;TZID=UTC:20241018T170000
DTSTAMP:20260424T190311
CREATED:20240909T111852Z
LAST-MODIFIED:20240909T111903Z
UID:632-1728892800-1729270800@airdropbounty.events
SUMMARY:Gitex
DESCRIPTION:Tech & Startup | Middle East | Dubai\, UAE
URL:https://airdropbounty.events/event/gitex/
END:VEVENT
BEGIN:VEVENT
DTSTART;TZID=UTC:20241001T080000
DTEND;TZID=UTC:20241002T170000
DTSTAMP:20260424T190311
CREATED:20240909T111755Z
LAST-MODIFIED:20240909T111755Z
UID:630-1727769600-1727888400@airdropbounty.events
SUMMARY:Digimarcon
DESCRIPTION:Web3 | Middle East | Dubai\, UAE
URL:https://airdropbounty.events/event/digimarcon/
END:VEVENT
BEGIN:VEVENT
DTSTART;TZID=UTC:20240925T080000
DTEND;TZID=UTC:20240926T170000
DTSTAMP:20260424T190311
CREATED:20240909T111649Z
LAST-MODIFIED:20240909T111649Z
UID:628-1727251200-1727370000@airdropbounty.events
SUMMARY:European Blockchain Convention
DESCRIPTION:Blockchain Convention | Barcelona
URL:https://airdropbounty.events/event/european-blockchain-convention/
END:VEVENT
BEGIN:VEVENT
DTSTART;TZID=UTC:20240918T080000
DTEND;TZID=UTC:20240919T170000
DTSTAMP:20260424T190311
CREATED:20240909T111510Z
LAST-MODIFIED:20250501T160337Z
UID:625-1726646400-1726765200@airdropbounty.events
SUMMARY:TOKEN 2049 in Singapore
DESCRIPTION:Web3 | Asia | Singapore
URL:https://airdropbounty.events/event/token2049-in-singapore/
END:VEVENT
BEGIN:VEVENT
DTSTART;VALUE=DATE:20240916
DTEND;VALUE=DATE:20240917
DTSTAMP:20260424T190311
CREATED:20240909T111247Z
LAST-MODIFIED:20240909T111337Z
UID:622-1726444800-1726531199@airdropbounty.events
SUMMARY:Degen Summit
DESCRIPTION:Web3 | Asia | Singapore
URL:https://airdropbounty.events/event/degen-summit/
END:VEVENT
BEGIN:VEVENT
DTSTART;TZID=UTC:20240911T080000
DTEND;TZID=UTC:20240913T170000
DTSTAMP:20260424T190311
CREATED:20240909T111124Z
LAST-MODIFIED:20240909T111152Z
UID:620-1726041600-1726246800@airdropbounty.events
SUMMARY:Permissionless II
DESCRIPTION:DEFI web3 | North America | Austin\, USA
URL:https://airdropbounty.events/event/permissionless-ii/
END:VEVENT
BEGIN:VEVENT
DTSTART;TZID=UTC:20240828T080000
DTEND;TZID=UTC:20240829T170000
DTSTAMP:20260424T190311
CREATED:20240909T111005Z
LAST-MODIFIED:20240909T111005Z
UID:618-1724832000-1724950800@airdropbounty.events
SUMMARY:WebX 2024
DESCRIPTION:Web3 | Asia | Tokyo\, Japan
URL:https://airdropbounty.events/event/webx-2024/
END:VEVENT
BEGIN:VEVENT
DTSTART;TZID=UTC:20240822T080000
DTEND;TZID=UTC:20240823T170000
DTSTAMP:20260424T190311
CREATED:20240909T110724Z
LAST-MODIFIED:20240909T110758Z
UID:611-1724313600-1724432400@airdropbounty.events
SUMMARY:Coinfest Asia
DESCRIPTION:Web3 | Nuanu\, Bali\, indonesia
URL:https://airdropbounty.events/event/coinfest-asia/
END:VEVENT
BEGIN:VEVENT
DTSTART;TZID=UTC:20240812T080000
DTEND;TZID=UTC:20240815T170000
DTSTAMP:20260424T190311
CREATED:20240909T110523Z
LAST-MODIFIED:20240909T110902Z
UID:610-1723449600-1723741200@airdropbounty.events
SUMMARY:ETail
DESCRIPTION:Ecommerce | North America | Boston\, USA
URL:https://airdropbounty.events/event/august-2024/
END:VEVENT
BEGIN:VEVENT
DTSTART;TZID=UTC:20220720T080000
DTEND;TZID=UTC:20220721T170000
DTSTAMP:20260424T190311
CREATED:20220711T153753Z
LAST-MODIFIED:20220711T153926Z
UID:126-1658304000-1658422800@airdropbounty.events
SUMMARY:Daily each 3 days
DESCRIPTION:
URL:https://airdropbounty.events/event/daily-each-3-days/
ATTACH;FMTTYPE=image/jpeg:https://airdropbounty.events/wp-content/uploads/2022/07/IMG-20181012-WA0000.jpg
END:VEVENT
END:VCALENDAR