BEGIN:VCALENDAR
VERSION:2.0
PRODID:-//AirdropBounty.Events - ECPv6.13.2.1//NONSGML v1.0//EN
CALSCALE:GREGORIAN
METHOD:PUBLISH
X-ORIGINAL-URL:https://airdropbounty.events
X-WR-CALDESC:Events for AirdropBounty.Events
REFRESH-INTERVAL;VALUE=DURATION:PT1H
X-Robots-Tag:noindex
X-PUBLISHED-TTL:PT1H
BEGIN:VTIMEZONE
TZID:UTC
BEGIN:STANDARD
TZOFFSETFROM:+0000
TZOFFSETTO:+0000
TZNAME:UTC
DTSTART:20250101T000000
END:STANDARD
END:VTIMEZONE
BEGIN:VEVENT
DTSTART;VALUE=DATE:20250211
DTEND;VALUE=DATE:20250212
DTSTAMP:20260424T164427
CREATED:20250211T124322Z
LAST-MODIFIED:20250211T124322Z
UID:2498-1739232000-1739318399@airdropbounty.events
SUMMARY:ITEXPO
DESCRIPTION:ITEXPO February 2025\n\nSince its launch in 1999\, ITEXPO is the one event that brings communications and technology professionals together across the entire eco-system: \n\nEnterprise and SMB telecom and IT professionals\nMSP and Channel C-levels and business owners\nService providers/carriers\nIndustry suppliers and solutions providers\n\n  \nITEXPO and the collocated events in the #TECHSUPERSHOW provide the forum where technology decisions are made to produce better business outcomes – for tech buyers\, resellers\, and solutions providers alike. \n\nMore than 160 conference breakout sessions\nCollocated events and conference tracks covering EVERY important technology from cloud to AI to cybersecurity to CX and more.\nThe busiest\, liveliest expo hall in tech\, featuring 400+ exhibitors.\nNon-Stop Networking Events over three productive days: Welcome reception\, expo hall grand opening\, pub crawl\, IDEA showcase startup event\, Famous ITEXPO Networking LIVE Party.\nIndustry Exclusive – Three demo theatres on the expo floor with free sessions all week.\nCollocated MSP Expo focused on growth for The Channel\nEight visionary keynote speeches – free for all attendees with any pass type\n\n REGISTER NOW
URL:https://airdropbounty.events/event/itexpo-2/
CATEGORIES:Fintech
END:VEVENT
END:VCALENDAR