BEGIN:VCALENDAR
VERSION:2.0
PRODID:-//AirdropBounty.Events - ECPv6.13.2.1//NONSGML v1.0//EN
CALSCALE:GREGORIAN
METHOD:PUBLISH
X-ORIGINAL-URL:https://airdropbounty.events
X-WR-CALDESC:Events for AirdropBounty.Events
REFRESH-INTERVAL;VALUE=DURATION:PT1H
X-Robots-Tag:noindex
X-PUBLISHED-TTL:PT1H
BEGIN:VTIMEZONE
TZID:UTC
BEGIN:STANDARD
TZOFFSETFROM:+0000
TZOFFSETTO:+0000
TZNAME:UTC
DTSTART:20250101T000000
END:STANDARD
END:VTIMEZONE
BEGIN:VEVENT
DTSTART;VALUE=DATE:20251111
DTEND;VALUE=DATE:20251112
DTSTAMP:20260419T121051
CREATED:20250211T121919Z
LAST-MODIFIED:20250211T121952Z
UID:2482-1762819200-1762905599@airdropbounty.events
SUMMARY:De.Fi World 2024 Multi-Chain Conference
DESCRIPTION:What is De.Fi World 2024? \nDe.Fi World 2024 \nDe.Fi World 2024 is a Multi chain and multi ecosystem experience.  Attracting Chains\, protocols\, DEXs\, wallets\, infrastructure\, security\, Web3 solutions and all projects around the globe that interact with DeFi in one place. \nAn event where the most unique ecosystems unite in one place\, bringing with them their innovative landscapes\, ethos\, DeFi protocols\, yield opportunities and strategic Web3 solutions. \nCreating a dynamic space\, where innovation thrives and collaboration ignites. Here\, great minds collide to shape a future brimming with unlimitled possibilities.
URL:https://airdropbounty.events/event/de-fi-world-2024-multi-chain-conference/
CATEGORIES:Blockchain & Crypto
END:VEVENT
BEGIN:VEVENT
DTSTART;VALUE=DATE:20251031
DTEND;VALUE=DATE:20251101
DTSTAMP:20260419T121051
CREATED:20250211T115422Z
LAST-MODIFIED:20250211T115432Z
UID:2477-1761868800-1761955199@airdropbounty.events
SUMMARY:The virtual Blockchain & AI expo
DESCRIPTION:ABOUT the virtual BLOCKchain & AI expo\n\n\n\n\n\n\n\n\nWith rapid advancement in the world of AI and blockchain\, there are opportunities to leverage blockchain’s security and transparency features to enhance the reliability and trustworthiness of AI systems and data transactions. \nThe virtual Blockchain & AI Expo took place on 31 October 2024 explored the synergy of these advancing technologies. \nThe event featured thought-leading presentations led by experts at the forefront of the evolving fields. Presentations uncovered opportunities and challenges in the fusion of blockchain and AI\, real-world applications\, ethics\, innovations in environmental sustainability and more! \nAttendees gained a comprehensive understanding of how these technologies can synergistically drive innovation\, optimize operations\, and foster strategic growth opportunities.
URL:https://airdropbounty.events/event/the-virtual-blockchain-ai-expo/
CATEGORIES:Blockchain & Crypto
END:VEVENT
BEGIN:VEVENT
DTSTART;TZID=UTC:20251028T080000
DTEND;TZID=UTC:20251029T170000
DTSTAMP:20260419T121051
CREATED:20250211T112737Z
LAST-MODIFIED:20250211T112737Z
UID:2447-1761638400-1761757200@airdropbounty.events
SUMMARY:15th International Forum on Web3\, Cryptocurrencies and Mining
DESCRIPTION:The peak of Bull Run is yet to come. Join to earn the maximum.\n\n\n\n\n\nFind out which coins are expected to show maximum growth in the near future\, according to leading experts\n\n\n\n\n\nExplore buying/selling strategies. When to buy and sell assets during a Bull Run?\n\n\n\n\n\nGet advices from global industry leaders who earned huge profits on previous Bull Runs
URL:https://airdropbounty.events/event/15th-international-forum-on-web3-cryptocurrencies-and-mining/
CATEGORIES:Blockchain & Crypto
END:VEVENT
BEGIN:VEVENT
DTSTART;TZID=UTC:20251022T080000
DTEND;TZID=UTC:20251023T170000
DTSTAMP:20260419T121051
CREATED:20250211T113737Z
LAST-MODIFIED:20250211T113737Z
UID:2457-1761120000-1761238800@airdropbounty.events
SUMMARY:THE PREMIER BLOCKCHAIN EVENT - LONDON
DESCRIPTION:THE PREMIER BLOCKCHAIN EVENT IN LONDON\n\n\n\n\nWORLD-CHANGERS ARE WELCOME\n\n\n\n\n\n\n\n\n\n\n\n\nBLOCKCHAIN MAKES THINGS BETTER AND WE MAKE BLOCKCHAIN EASIER\n\n\n\n\n\n\n\n\nYOU’VE NEVER BEEN TO A TECH CONFERENCE LIKE THIS\n\n\n\n\n\n\n\n\n\n\n\n\n\n\nThe London Blockchain Conference helps you understand and apply the solutions that can make your organisation better\, smarter\, faster\, fairer and more effective than ever. \n\n\nYou’ll discover the latest advances in blockchain\, AI and web3 – and see how they apply to your world \n\n\nYou’ll see real-world examples of how the technology is solving some of the biggest problems in business and government. \n\n\nYou’ll hear from the thought leaders who are pioneering the possibilities of what this technology can really do. \n\n\nYou’ll connect with business leaders\, technical experts and technology journalists. \n\n\nAnd you’ll come away ready to change your work\, and your world\, for the better. \n\n\nBig changes\, big improvements\, big opportunities. And all you need is a ticket.
URL:https://airdropbounty.events/event/the-premier-blockchain-event-london/
CATEGORIES:Blockchain & Crypto
END:VEVENT
BEGIN:VEVENT
DTSTART;TZID=UTC:20251017T080000
DTEND;TZID=UTC:20251019T170000
DTSTAMP:20260419T121051
CREATED:20250211T114820Z
LAST-MODIFIED:20250211T114820Z
UID:2471-1760688000-1760893200@airdropbounty.events
SUMMARY:ETHSofia Conference and Hackathon
DESCRIPTION:is the premier crypto event in Bulgaria. Crafted as the brainchild of devoted blockchain professionals and enthusiasts\, ETHSofia is set to welcome a vanguard of thought leaders and builders from the Ethereum and wider crypto industry. \n500+ attendees\, 100+ hackers\, and 40+ expected speakers from the Ethereum and crypto ecosystems. \nwww.ethsofia.com
URL:https://airdropbounty.events/event/ethsofia-conference-and-hackathon/
CATEGORIES:Blockchain & Crypto
END:VEVENT
BEGIN:VEVENT
DTSTART;TZID=UTC:20251001T080000
DTEND;TZID=UTC:20251002T170000
DTSTAMP:20260419T121051
CREATED:20250211T112009Z
LAST-MODIFIED:20250501T160445Z
UID:2442-1759305600-1759424400@airdropbounty.events
SUMMARY:TOKEN 2049 NEXUS - Singapore
DESCRIPTION:More than just an event.\na festival unlike any other.\nSpread across four floors at the iconic Marina Bay Sands\, TOKEN2049 is an experience unlike any other. \nLavish free-flowing food\, coffee and live DJ sets power an electric atmosphere\, as exhibitors showcase cutting edge product demos\, and attendees recharge with massages\, on-site barbers\, and non-stop entertainment\, quests\, and activities. \n  \n\nUNPARALLELED NETWORKING\nAttended by industry leaders\n\nTOKEN2049 Singapore will bring together 25\,000+ attendees from 7\,000+ companies and 160+ countries for a buzzing two-day main event on 1-2 October 2025. \n\n\n\n\n\n\n\nA TRULY GLOBAL EVENT\n160+ Countries\n\n\nCONNECTING DECISION-MAKERS\n>60% C-Level\n\n\nTHE LARGEST CRYPTO GATHERING\n1\,000+ SIDE EVENTS
URL:https://airdropbounty.events/event/token2049-nexus-singapore/
CATEGORIES:Blockchain & Crypto
END:VEVENT
BEGIN:VEVENT
DTSTART;TZID=UTC:20250923T080000
DTEND;TZID=UTC:20250925T170000
DTSTAMP:20260419T121051
CREATED:20250211T114719Z
LAST-MODIFIED:20250211T114719Z
UID:2469-1758614400-1758819600@airdropbounty.events
SUMMARY:ETHSOFIA 2025
DESCRIPTION:ETHSOFIA 2025\n\n\n\n23 – 25 September 2025\n\n\nSofia Tech Park\n\n\n\nMore to follow soon…
URL:https://airdropbounty.events/event/ethsofia-2025/
CATEGORIES:Blockchain & Crypto
END:VEVENT
BEGIN:VEVENT
DTSTART;VALUE=DATE:20250916
DTEND;VALUE=DATE:20250917
DTSTAMP:20260419T121051
CREATED:20250211T121813Z
LAST-MODIFIED:20250211T121813Z
UID:2480-1757980800-1758067199@airdropbounty.events
SUMMARY:DeGen Summit Web3 Conclave
DESCRIPTION:Welcome to DeGEN Summit\, after the success in London\, Dubai\, India and Hong Kong DeGen Summit is back in Singapore\, \nJoin us as top company founders and executives discuss their views and perspectives on the blockchain market. \nThis year\, DeGen Summit also brings together web3.0 startups and VC’s together in our demo eve where startups can get a chance to win thousands of dollars in grants\, cash\, services and various products! \n  \n  \nSingapore stands as a beacon of progress and innovation\, making it the perfect setting for the DeGen Summit. With its crypto-friendly regulatory environment\, vibrant tech scenes\, and diverse population\, Singapore attracts over 25\,000 crypto enthusiasts to network\, innovate\, and capitalize on bullish opportunities in the Web3 space. \nThis global gathering underscores Singapore’s role as a leading hub for blockchain technology and its readiness to embrace the future of decentralized finance. It’s the perfect setting for the DeGen Summit for several compelling reasons
URL:https://airdropbounty.events/event/degen-summit-web3-conclave/
CATEGORIES:Blockchain & Crypto
END:VEVENT
BEGIN:VEVENT
DTSTART;TZID=UTC:20250825T080000
DTEND;TZID=UTC:20250826T170000
DTSTAMP:20260419T121051
CREATED:20250211T112935Z
LAST-MODIFIED:20250211T113000Z
UID:2449-1756108800-1756227600@airdropbounty.events
SUMMARY:WebX - AISA'S LARGEST LEADING WEB3 CONFRENCES
DESCRIPTION:What’s WebX\n\n\nWebX2025 is produced by CoinPost\, Japan’s largest Web3 media.\nThe event will take place on August 25th and 26th\, 2025 at The Prince Park Tower in Tokyo. \nWebX2025 is Asia’s largest global conference gathering professionals related to crypto assets\, blockchain\, and other Web3 technologies\, offering visitors a direct interaction with companies\, experts\, entrepreneurs\, investors\, government officials\, and media from Japan and abroad.
URL:https://airdropbounty.events/event/webx-aisas-largest-leading-web3-confrences/
CATEGORIES:Blockchain & Crypto
END:VEVENT
BEGIN:VEVENT
DTSTART;TZID=UTC:20250618T080000
DTEND;TZID=UTC:20250619T170000
DTSTAMP:20260419T121051
CREATED:20250211T112318Z
LAST-MODIFIED:20250211T112348Z
UID:2444-1750233600-1750352400@airdropbounty.events
SUMMARY:THE PREMIER AI EVENT - MARINA BAY SANDS\, SINGAPORE
DESCRIPTION:THE PREMIER AI EVENT \n\n\nDefining the future \nof artificial intelligence \n\n\nSuperAI is the most anticipated AI conference defining the future of artificial intelligence.​ Industry leaders\, heads of state\, entrepreneurs\, renowned researchers\, and curious minds alike converge in Singapore to explore and unveil the next wave of transformative AI technologies. \n​ \nThis is an extraordinary journey into the limitless possibilities of AI. The future is just around the corner\, and SuperAI is where it all begins.
URL:https://airdropbounty.events/event/the-premier-ai-event/
CATEGORIES:Blockchain & Crypto
END:VEVENT
BEGIN:VEVENT
DTSTART;TZID=UTC:20250529T080000
DTEND;TZID=UTC:20250531T170000
DTSTAMP:20260419T121051
CREATED:20250211T113545Z
LAST-MODIFIED:20250211T113545Z
UID:2455-1748505600-1748710800@airdropbounty.events
SUMMARY:CONSENSUS BY COINDESK
DESCRIPTION:That’s a Wrap!\nThanks to the 15\,047 passionate members of the crypto and Web3 communities that helped make Consensus 2024 a success\nCouldn’t make it or miss a session? Stream all 250+ session on-demand
URL:https://airdropbounty.events/event/consensus-by-coindesk/
CATEGORIES:Blockchain & Crypto
END:VEVENT
BEGIN:VEVENT
DTSTART;TZID=UTC:20250527T080000
DTEND;TZID=UTC:20250529T170000
DTSTAMP:20260419T121051
CREATED:20250211T113416Z
LAST-MODIFIED:20250211T113416Z
UID:2453-1748332800-1748538000@airdropbounty.events
SUMMARY:The Venetian Expo - May 27\, 2025 - May 29\, 2025
DESCRIPTION:May 27\, 2025 – May 29\, 2025 • The Venetian Expo\n\nBitcoin 2025\nTicket & Hotel Packages
URL:https://airdropbounty.events/event/the-venetian-expo-may-27-2025-may-29-2025/
CATEGORIES:Blockchain & Crypto
END:VEVENT
BEGIN:VEVENT
DTSTART;TZID=UTC:20250511T080000
DTEND;TZID=UTC:20250517T170000
DTSTAMP:20260419T121051
CREATED:20250211T113128Z
LAST-MODIFIED:20250211T113128Z
UID:2451-1746950400-1747501200@airdropbounty.events
SUMMARY:BLOCKCHAIN FUTURIST CONFRENCE
DESCRIPTION:Join us for Canada Crypto Week from May 11-17\, 2025\, where thousands of individuals will gather for networking\, education\, and more. Experience tons of events conveniently located at the prestigious Futurist Conference Venue\, accessible with your conference badge! \nWith events also happening throughout Toronto and across Canada\, this is an opportunity you won’t want to miss. Secure your spot now\, as spaces are limited for these exciting events.
URL:https://airdropbounty.events/event/blockchain-futurist-confrence/
CATEGORIES:Blockchain & Crypto
END:VEVENT
BEGIN:VEVENT
DTSTART;TZID=UTC:20250430T080000
DTEND;TZID=UTC:20250501T170000
DTSTAMP:20260419T121051
CREATED:20250211T111651Z
LAST-MODIFIED:20250211T111651Z
UID:2438-1746000000-1746118800@airdropbounty.events
SUMMARY:TOKEN 2049 Dubai - The Premier Crypto Event
DESCRIPTION:This is the community that will define what’s next in the space. \n\n\nTOKEN2049 is the premier crypto event\, organised annually in Dubai and Singapore\, where founders and executives of the leading Web3 companies and projects share their view on the industry. We shine a light on the global developments\, while taking a unique and widening perspective on the ecosystem and its vast opportunities. ​TOKEN2049 brings together the global Web3 industry\, uniting entrepreneurs\, investors\, developers\, industry insiders and global media – and creates unparalleled networking opportunities.
URL:https://airdropbounty.events/event/token-2049-dubai-the-premier-crypto-event/
LOCATION:The Premier Crypto Event\, Dubai\, Dubai\, United Arab Emirates
CATEGORIES:Blockchain & Crypto
END:VEVENT
BEGIN:VEVENT
DTSTART;TZID=UTC:20250326T080000
DTEND;TZID=UTC:20250327T170000
DTSTAMP:20260419T121051
CREATED:20250211T114230Z
LAST-MODIFIED:20250211T114230Z
UID:2463-1742976000-1743094800@airdropbounty.events
SUMMARY:WORLD OF WEB3 AISAWORLD-EXPO HONG KONG SUMMIT
DESCRIPTION:Major\nAPAC Web3 Event\n\n\n\n\n\n\n\n\n\n\nWOW Summit returns to Hong Kong in 2024 with a groundbreaking new concept and fresh ideas\, building upon the triumph of previous WOW Summits held in Dubai\, Hong Kong\, and Lisbon. \nSituated strategically in the APAC region\, Hong Kong is witnessing a remarkable surge in Web3 space. New guidelines and regulations in the virtual assets space\, announced by the Hong Kong Government\, are boosting the interest of Web3 industry players. Join us for an unparalleled opportunity to unite with the titans of the industry: industry leaders\, government officials\, investment funds\, venture capitalists\, NFT and digital artists\, entrepreneurs\, and multinational corporations. \n\n\n\n\n\n\n\n\n\n\n\n\n\n\n\n\nWOW Summit Hong Kong aims to bridge the leading players in Web2 and Web3 space with the Global community\, providing an exclusive platform for high-class networking\, critical discussions\, exploring lucrative business opportunities\, and\, of course\, enjoying some memorable moments!
URL:https://airdropbounty.events/event/world-of-web3-aisaworld-expo-hong-kong-summit/
CATEGORIES:Blockchain & Crypto
END:VEVENT
BEGIN:VEVENT
DTSTART;VALUE=DATE:20250326
DTEND;VALUE=DATE:20250327
DTSTAMP:20260419T121051
CREATED:20250211T113921Z
LAST-MODIFIED:20250211T113921Z
UID:2459-1742947200-1743033599@airdropbounty.events
SUMMARY:DC Blockchain summit 2025
DESCRIPTION:The DC Blockchain Summit is the premier event where government and business leaders unite to explore the most pressing issues in blockchain and digital assets\, fostering innovation\, enhancing U.S. competitiveness\, and driving economic growth for a better tomorrow. \n  \n\n\n\n\n\n\n\n\n\n\n\n\n\n\nAbout the summit\n\n\n\n\n\n\n\n\n\nThe DC Blockchain Summit brings together the most influential voices leading the blockchain and digital asset ecosystem\, connecting them with the nation’s top policymakers and regulators for crucial discussions and conversations on key issues that will define the future of our industry and its success.
URL:https://airdropbounty.events/event/dc-blockchain-summit-2025/
CATEGORIES:Blockchain & Crypto
END:VEVENT
BEGIN:VEVENT
DTSTART;TZID=UTC:20250303T080000
DTEND;TZID=UTC:20250306T170000
DTSTAMP:20260419T121051
CREATED:20250211T114337Z
LAST-MODIFIED:20250211T114337Z
UID:2465-1740988800-1741280400@airdropbounty.events
SUMMARY:MWC25
DESCRIPTION:Expect more than ever before at MWC25\n\nMore of the most iconic thinkers of today\, first glimpses of game-changing tech\, big ideas that will drive the digital economy and opportunity for global change\, as policy\, business and technology leaders come together. \n3-6 March 2025\nFira Gran Via\, Barcelona
URL:https://airdropbounty.events/event/mwc25/
CATEGORIES:Blockchain & Crypto
END:VEVENT
BEGIN:VEVENT
DTSTART;TZID=UTC:20250302T080000
DTEND;TZID=UTC:20250303T170000
DTSTAMP:20260419T121051
CREATED:20250211T114054Z
LAST-MODIFIED:20250211T114054Z
UID:2461-1740902400-1741021200@airdropbounty.events
SUMMARY:Largest Crypto & Blockchain Conference in Eastern Europe
DESCRIPTION:Crypto Expo Europe is more than a network event\, we are also focused\non sharing the newest information\, the fresh trends\, finding solutions\nto the latest issues\, all for helping you growing in your career or\nincreasing your business.\nThe best speakers in the industry will reveal their secrets and will\nprovide the tips that you need to move forward in the business. \n  \nCompany Presentations\nFor making Crypto Expo Europe a complete tour of knowledge we had\nthe best companies presenting their products and the trends in this\nindustry.\nYou can find directly from the top management what is new on\nbusiness also you can interact and tell them what are your issues and\nquestions; the interest is on both sides to find the perfect solutions.
URL:https://airdropbounty.events/event/largest-crypto-blockchain-conference-in-eastern-europe/
CATEGORIES:Blockchain & Crypto
END:VEVENT
BEGIN:VEVENT
DTSTART;VALUE=DATE:20250228
DTEND;VALUE=DATE:20250301
DTSTAMP:20260419T121051
CREATED:20250211T115213Z
LAST-MODIFIED:20250211T115213Z
UID:2475-1740700800-1740787199@airdropbounty.events
SUMMARY:WORLD'S FIRST COLLABORATIVE UNIVERSITY BLOCKCHAIN SUMMIT
DESCRIPTION:What is the\nCUBE Summit?\nThis is where top talent meets\, fueled by powerful alumni networks and academic excellence. \nFor the first time\, twelve distinguished university blockchain clubs are uniting\, supported by extensive alumni networks and in collaboration with leading projects and investors. Together\, we aim to cultivate emerging talents and foster innovative projects\, paving the way for the future leaders of crypto.
URL:https://airdropbounty.events/event/worlds-first-collaborative-university-blockchain-summit/
CATEGORIES:Blockchain & Crypto
END:VEVENT
BEGIN:VEVENT
DTSTART;TZID=UTC:20250223T080000
DTEND;TZID=UTC:20250302T170000
DTSTAMP:20260419T121051
CREATED:20250211T122209Z
LAST-MODIFIED:20250211T122236Z
UID:2486-1740297600-1740934800@airdropbounty.events
SUMMARY:ITEXPO
DESCRIPTION:ITEXPO is a leading business technology event that covers everything from cloud to communications\, providing insights into the future of IT solutions. It’s ideal for professionals looking to explore emerging technologies and innovations.
URL:https://airdropbounty.events/event/itexpo/
CATEGORIES:Blockchain & Crypto
END:VEVENT
BEGIN:VEVENT
DTSTART;TZID=UTC:20250223T080000
DTEND;TZID=UTC:20250302T170000
DTSTAMP:20260419T121051
CREATED:20250211T115055Z
LAST-MODIFIED:20250211T115055Z
UID:2473-1740297600-1740934800@airdropbounty.events
SUMMARY:ETH DENVER 2025
DESCRIPTION:Explore Campaigns 💎 Unlock Rewards\nJoin 1\,200\,000+ users that are unlocking tangible rewards from daily interactions with top brands.
URL:https://airdropbounty.events/event/eth-denver-2025/
CATEGORIES:Blockchain & Crypto
END:VEVENT
BEGIN:VEVENT
DTSTART;TZID=UTC:20250218T080000
DTEND;TZID=UTC:20250220T170000
DTSTAMP:20260419T121051
CREATED:20250211T122058Z
LAST-MODIFIED:20250211T122058Z
UID:2484-1739865600-1740070800@airdropbounty.events
SUMMARY:Consensus Hong Kong
DESCRIPTION:Advertiser Disclosure: Securities.io is committed to rigorous editorial standards to provide our readers with accurate reviews and ratings. We may receive compensation when you click on links to products we reviewed. \nESMA: CFDs are complex instruments and come with a high risk of losing money rapidly due to leverage. Between 74-89% of retail investor accounts lose money when trading CFDs. You should consider whether you understand how CFDs work and whether you can afford to take the high risk of losing your money. \nInvestment advice disclaimer: The information contained on this website is provided for educational purposes\, and does not constitute investment advice. \nTrading Risk Disclaimer: There is a very high degree of risk involved in trading securities. Trading in any type of financial product including forex\, CFDs\, stocks\, and cryptocurrencies. \nThis risk is higher with Cryptocurrencies due to markets being decentralized and non-regulated. You should be aware that you may lose a significant portion of your portfolio. \nSecurities.io is not a registered broker\, analyst\, or investment advisor.
URL:https://airdropbounty.events/event/consensus-hong-kong/
CATEGORIES:Blockchain & Crypto
END:VEVENT
BEGIN:VEVENT
DTSTART;TZID=UTC:20250211T080000
DTEND;TZID=UTC:20250211T170000
DTSTAMP:20260419T121051
CREATED:20250211T122447Z
LAST-MODIFIED:20250211T122447Z
UID:2490-1739260800-1739293200@airdropbounty.events
SUMMARY:METAVSUMMIT
DESCRIPTION:Location: Dubai\, UAE\nDates: Jan 10–11\, 2024\nSponsorship Contact Info: https://metavsummit.com\nEstimated Sponsorship Cost: $10\,000 — $30\,000\nAttendees Expected: 3\,000\nFeatured Speakers: Justin Sun\, Paolo Ardoino
URL:https://airdropbounty.events/event/metavsummit/
CATEGORIES:Blockchain & Crypto
END:VEVENT
BEGIN:VEVENT
DTSTART;TZID=UTC:20250115T080000
DTEND;TZID=UTC:20250117T170000
DTSTAMP:20260419T121051
CREATED:20250211T114543Z
LAST-MODIFIED:20250211T114543Z
UID:2467-1736928000-1737133200@airdropbounty.events
SUMMARY:CfC St. Moritz
DESCRIPTION:An intimate circle of selected opinion leaders and investors in the truly private and unique setting of the Swiss Alps. The application-only conference fosters a culture of genuine connection and deliberately admits a maximum of only 250 international UHNWI\, family offices\, funds\, and institutional investors\, uniting the traditional finance sector and the crypto industry in the heart of the snowy Engadin valley. \nDuring three days\, opinion leaders and high-ranking representatives from governmental and supranational bodies\, the private sector\, academia\, and decentralized organizations exchange their knowledge on digital assets\, blockchain and traditional finance in various formats on- and off-stage.
URL:https://airdropbounty.events/event/cfc-st-moritz/
CATEGORIES:Blockchain & Crypto
END:VEVENT
END:VCALENDAR